BEGIN:VCALENDAR
VERSION:2.0
PRODID:-//pretix//pretix.eu//
BEGIN:VTIMEZONE
TZID:Europe/Amsterdam
BEGIN:STANDARD
DTSTART:20001029T040000
RRULE:FREQ=YEARLY;BYDAY=-1SU;BYMONTH=10
TZNAME:CET
TZOFFSETFROM:+0200
TZOFFSETTO:+0100
END:STANDARD
BEGIN:DAYLIGHT
DTSTART:20000326T030000
RRULE:FREQ=YEARLY;BYDAY=-1SU;BYMONTH=3
TZNAME:CEST
TZOFFSETFROM:+0100
TZOFFSETTO:+0200
END:DAYLIGHT
END:VTIMEZONE
BEGIN:VEVENT
UID:pretix-foss4gnl-2025-0@pretix.eu
DTSTART;TZID=Europe/Amsterdam:20250702T090000
DTEND;TZID=Europe/Amsterdam:20250703T180000
DESCRIPTION:Tickets: https://pretix.eu/foss4gnl/2025/\nOrganisator: OSGeo.N
 L
DTSTAMP:20260421T091709Z
LOCATION:WUR campus\, congrescentrum Omnia\, Wageningen
SUMMARY:FOSS4GNL 2025
END:VEVENT
END:VCALENDAR
