BEGIN:VCALENDAR
VERSION:2.0
PRODID:-//pretix//pretix.eu//
BEGIN:VTIMEZONE
TZID:Europe/Berlin
BEGIN:STANDARD
DTSTART:20001029T040000
RRULE:FREQ=YEARLY;BYDAY=-1SU;BYMONTH=10
TZNAME:CET
TZOFFSETFROM:+0200
TZOFFSETTO:+0100
END:STANDARD
BEGIN:DAYLIGHT
DTSTART:20000326T030000
RRULE:FREQ=YEARLY;BYDAY=-1SU;BYMONTH=3
TZNAME:CEST
TZOFFSETFROM:+0100
TZOFFSETTO:+0200
END:DAYLIGHT
END:VTIMEZONE
BEGIN:VEVENT
UID:pretix-fossgis-2026-0@pretix.eu
DTSTART;TZID=Europe/Berlin:20260324T100000
DTEND;TZID=Europe/Berlin:20260328T180000
DESCRIPTION:Tickets: https://pretix.eu/fossgis/2026/\nVeranstalter: FOSSGIS
  e.V.
DTSTAMP:20260421T171331Z
LOCATION:Georg-August-Universität Göttingen\, Pl. d. Göttinger Sieben 5\
 , 37073 Göttingen
SUMMARY:FOSSGIS-Konferenz 2026
END:VEVENT
END:VCALENDAR
