BEGIN:VCALENDAR
VERSION:2.0
PRODID:-//pretix//pretix.eu//
BEGIN:VTIMEZONE
TZID:Asia/Dubai
BEGIN:STANDARD
DTSTART:20000101T000000
RRULE:FREQ=YEARLY;BYMONTH=1
TZNAME:+04
TZOFFSETFROM:+0400
TZOFFSETTO:+0400
END:STANDARD
END:VTIMEZONE
BEGIN:VEVENT
UID:pretix-francescocirillocom-pbp9v-4647313@pretix.eu
DTSTART;TZID=Asia/Dubai:20250916T200000
DTEND;TZID=Asia/Dubai:20250916T230000
DESCRIPTION:Tickets: https://pretix.eu/francescocirillocom/pbp9v/4647313/\n
 Organizer: Francesco Cirillo - FZCO
DTSTAMP:20260421T083102Z
SUMMARY:Programming with Francesco – 3h Live Online Session
END:VEVENT
END:VCALENDAR
