BEGIN:VCALENDAR
VERSION:2.0
PRODID:-//pretix//pretix.eu//
BEGIN:VTIMEZONE
TZID:Europe/Berlin
BEGIN:STANDARD
DTSTART:20001029T040000
RRULE:FREQ=YEARLY;BYDAY=-1SU;BYMONTH=10
TZNAME:CET
TZOFFSETFROM:+0200
TZOFFSETTO:+0100
END:STANDARD
BEGIN:DAYLIGHT
DTSTART:20000326T030000
RRULE:FREQ=YEARLY;BYDAY=-1SU;BYMONTH=3
TZNAME:CEST
TZOFFSETFROM:+0100
TZOFFSETTO:+0200
END:DAYLIGHT
END:VTIMEZONE
BEGIN:VEVENT
UID:pretix-freundefuerkammermusik-funkenflug-0@pretix.eu
DTSTART;TZID=Europe/Berlin:20260316T183000
DTEND;TZID=Europe/Berlin:20260316T203000
DESCRIPTION:Tickets: https://pretix.eu/freundefuerkammermusik/funkenflug/\n
 Einlass: 16.03.2026 18:00\nVeranstalter: Freunde des Henschel Quartetts zu
 r Förderung der Kammermusik
DTSTAMP:20260420T194224Z
LOCATION:Johannissaal (der Saal ist nicht barrierefrei)\, Schloss Nymphenbu
 rg\, München
SUMMARY:Funkenflug im Zauber der Nacht - Jahrestreffen & Festkonzert der Fr
 eunde des Henschel Quartetts e.V.
END:VEVENT
END:VCALENDAR
