BEGIN:VCALENDAR
VERSION:2.0
PRODID:-//pretix//pretix.eu//
BEGIN:VTIMEZONE
TZID:Europe/Berlin
BEGIN:STANDARD
DTSTART:20001029T040000
RRULE:FREQ=YEARLY;BYDAY=-1SU;BYMONTH=10
TZNAME:CET
TZOFFSETFROM:+0200
TZOFFSETTO:+0100
END:STANDARD
BEGIN:DAYLIGHT
DTSTART:20000326T030000
RRULE:FREQ=YEARLY;BYDAY=-1SU;BYMONTH=3
TZNAME:CEST
TZOFFSETFROM:+0100
TZOFFSETTO:+0200
END:DAYLIGHT
END:VTIMEZONE
BEGIN:VEVENT
UID:pretix-friedrichshall-udo-0@pretix.eu
DTSTART;TZID=Europe/Berlin:20241012T193000
DTEND;TZID=Europe/Berlin:20241012T203000
DESCRIPTION:Tickets: https://pretix.eu/friedrichshall/udo/\nEinlass: 12.10.
 2024 18:45\nVeranstalter: Stadt Bad Friedrichshall
DTSTAMP:20260420T172900Z
LOCATION:Alte Kelter Kochendorf\, Hauptstraße 4/1\, 74177 Bad Friedrichsha
 ll\, Veranstalter Stadt Bad Friedrichshall\, Tel.: 07136/ 832 - 106\, tick
 ets@friedrichshall.de\, www.friedrichshall-tourismus.de
SUMMARY:Aber bitte mit Udo
END:VEVENT
END:VCALENDAR
