BEGIN:VCALENDAR
VERSION:2.0
PRODID:-//pretix//pretix.eu//
BEGIN:VTIMEZONE
TZID:Europe/Berlin
BEGIN:STANDARD
DTSTART:20001029T040000
RRULE:FREQ=YEARLY;BYDAY=-1SU;BYMONTH=10
TZNAME:CET
TZOFFSETFROM:+0200
TZOFFSETTO:+0100
END:STANDARD
BEGIN:DAYLIGHT
DTSTART:20000326T030000
RRULE:FREQ=YEARLY;BYDAY=-1SU;BYMONTH=3
TZNAME:CEST
TZOFFSETFROM:+0100
TZOFFSETTO:+0200
END:DAYLIGHT
END:VTIMEZONE
BEGIN:VEVENT
UID:pretix-frisbee.berlin-training-2026-0@pretix.eu
DTSTART;TZID=Europe/Berlin:20260307T100000
DTEND;TZID=Europe/Berlin:20260307T130000
DESCRIPTION:Tickets: https://pretix.eu/frisbee.berlin/training-2026/\nVeran
 stalter: Frisbeesport-Landesverband Berlin e.V.
DTSTAMP:20260420T052223Z
LOCATION:Pfeffersport e.V.\, Paul-Heyse-Straße 29 - 4. OG rechts - 10407 B
 erlin
SUMMARY:Grundlagen der Trainingsgestaltung und -planung
END:VEVENT
END:VCALENDAR
