BEGIN:VCALENDAR
VERSION:2.0
PRODID:-//pretix//pretix.eu//
BEGIN:VTIMEZONE
TZID:Europe/Berlin
BEGIN:STANDARD
DTSTART:20001029T040000
RRULE:FREQ=YEARLY;BYDAY=-1SU;BYMONTH=10
TZNAME:CET
TZOFFSETFROM:+0200
TZOFFSETTO:+0100
END:STANDARD
BEGIN:DAYLIGHT
DTSTART:20000326T030000
RRULE:FREQ=YEARLY;BYDAY=-1SU;BYMONTH=3
TZNAME:CEST
TZOFFSETFROM:+0100
TZOFFSETTO:+0200
END:DAYLIGHT
END:VTIMEZONE
BEGIN:VEVENT
UID:pretix-fulmo-blocktrainer2022-0@pretix.eu
DTSTART;TZID=Europe/Berlin:20220730T090000
DTEND;TZID=Europe/Berlin:20220730T180000
DESCRIPTION:Tickets: https://pretix.eu/fulmo/blocktrainer2022/\nVeranstalte
 r: Fulmo GmbH
DTSTAMP:20260423T141058Z
LOCATION:Roadstop\, Marie-Curie-Straße 8\, 40822 Mettmann
SUMMARY:Blocktrainer Community Event 2022
END:VEVENT
END:VCALENDAR
