BEGIN:VCALENDAR
VERSION:2.0
PRODID:-//pretix//pretix.eu//
BEGIN:VTIMEZONE
TZID:Europe/Rome
BEGIN:STANDARD
DTSTART:20001029T040000
RRULE:FREQ=YEARLY;BYDAY=-1SU;BYMONTH=10
TZNAME:CET
TZOFFSETFROM:+0200
TZOFFSETTO:+0100
END:STANDARD
BEGIN:DAYLIGHT
DTSTART:20000326T030000
RRULE:FREQ=YEARLY;BYDAY=-1SU;BYMONTH=3
TZNAME:CEST
TZOFFSETFROM:+0100
TZOFFSETTO:+0200
END:DAYLIGHT
END:VTIMEZONE
BEGIN:VEVENT
UID:pretix-gaep-lungamarcia2026-0@pretix.eu
DTSTART;TZID=Europe/Rome:20260524T040000
DTEND;TZID=Europe/Rome:20260524T220000
DESCRIPTION:Tickets: https://pretix.eu/gaep/lungamarcia2026/\nOrganizer: Gr
 uppo Alpinisti Escursionisti Piacentini APS
DTSTAMP:20260425T030639Z
LOCATION:Loc. Rifugio GAEP “Vincenzo Stoto” – Selva di Ferriere (PC)
SUMMARY:54a Lunga Marcia in Alta Val Nure "Dante Cremonesi" 2026
END:VEVENT
END:VCALENDAR
