BEGIN:VCALENDAR
VERSION:2.0
PRODID:-//pretix//pretix.eu//
BEGIN:VTIMEZONE
TZID:Europe/Vienna
BEGIN:STANDARD
DTSTART:20001029T040000
RRULE:FREQ=YEARLY;BYDAY=-1SU;BYMONTH=10
TZNAME:CET
TZOFFSETFROM:+0200
TZOFFSETTO:+0100
END:STANDARD
BEGIN:DAYLIGHT
DTSTART:20000326T030000
RRULE:FREQ=YEARLY;BYDAY=-1SU;BYMONTH=3
TZNAME:CEST
TZOFFSETFROM:+0100
TZOFFSETTO:+0200
END:DAYLIGHT
END:VTIMEZONE
BEGIN:VEVENT
UID:pretix-gamesjku-S26-0@pretix.eu
DTSTART;TZID=Europe/Vienna:20260501T160000
DTEND;TZID=Europe/Vienna:20260503T060000
DESCRIPTION:Tickets: https://pretix.eu/gamesjku/S26/\nOrganizer: JKU Games
DTSTAMP:20260425T205813Z
LOCATION:Uni-Center\, Altenberger Straße 69\, 4040 Linz
SUMMARY:JKU Games S26
END:VEVENT
END:VCALENDAR
