BEGIN:VCALENDAR
VERSION:2.0
PRODID:-//pretix//pretix.eu//
BEGIN:VTIMEZONE
TZID:Europe/Berlin
BEGIN:STANDARD
DTSTART:20001029T040000
RRULE:FREQ=YEARLY;BYDAY=-1SU;BYMONTH=10
TZNAME:CET
TZOFFSETFROM:+0200
TZOFFSETTO:+0100
END:STANDARD
BEGIN:DAYLIGHT
DTSTART:20000326T030000
RRULE:FREQ=YEARLY;BYDAY=-1SU;BYMONTH=3
TZNAME:CEST
TZOFFSETFROM:+0100
TZOFFSETTO:+0200
END:DAYLIGHT
END:VTIMEZONE
BEGIN:VEVENT
UID:pretix-gartentheater-26-elefant-0@pretix.eu
DTSTART;TZID=Europe/Berlin:20260709T160000
DTEND;TZID=Europe/Berlin:20260709T164500
DESCRIPTION:Tickets: https://pretix.eu/gartentheater/26-elefant/\nVeranstal
 ter: Gartentheater Abtnaundorf
DTSTAMP:20260424T003238Z
LOCATION:Familienzentrum Thekla (FiZ Leipzig)\, Klingenthaler Str. 14\,\, 0
 4349 Leipzig
SUMMARY:Wie der Elefant zu seinem Rüssel kam – ab 4 Jahre
END:VEVENT
END:VCALENDAR
