BEGIN:VCALENDAR
VERSION:2.0
PRODID:-//pretix//pretix.eu//
BEGIN:VTIMEZONE
TZID:Europe/Berlin
BEGIN:STANDARD
DTSTART:20001029T040000
RRULE:FREQ=YEARLY;BYDAY=-1SU;BYMONTH=10
TZNAME:CET
TZOFFSETFROM:+0200
TZOFFSETTO:+0100
END:STANDARD
BEGIN:DAYLIGHT
DTSTART:20000326T030000
RRULE:FREQ=YEARLY;BYDAY=-1SU;BYMONTH=3
TZNAME:CEST
TZOFFSETFROM:+0100
TZOFFSETTO:+0200
END:DAYLIGHT
END:VTIMEZONE
BEGIN:VEVENT
UID:pretix-gartentheater-26-heidehasen-0@pretix.eu
DTSTART;TZID=Europe/Berlin:20260704T160000
DTEND;TZID=Europe/Berlin:20260704T164500
DESCRIPTION:Tickets: https://pretix.eu/gartentheater/26-heidehasen/\nVerans
 talter: Gartentheater Abtnaundorf
DTSTAMP:20260424T035607Z
LOCATION:»Gartentheater Abtnaundorf«\, Sternbachstraße 22\, 04347 Leipzig
SUMMARY:Der Sängerkrieg der Heidehasen – ab 5 Jahre
END:VEVENT
END:VCALENDAR
