BEGIN:VCALENDAR
VERSION:2.0
PRODID:-//pretix//pretix.eu//
BEGIN:VTIMEZONE
TZID:Europe/Berlin
BEGIN:STANDARD
DTSTART:20001029T040000
RRULE:FREQ=YEARLY;BYDAY=-1SU;BYMONTH=10
TZNAME:CET
TZOFFSETFROM:+0200
TZOFFSETTO:+0100
END:STANDARD
BEGIN:DAYLIGHT
DTSTART:20000326T030000
RRULE:FREQ=YEARLY;BYDAY=-1SU;BYMONTH=3
TZNAME:CEST
TZOFFSETFROM:+0100
TZOFFSETTO:+0200
END:DAYLIGHT
END:VTIMEZONE
BEGIN:VEVENT
UID:pretix-gartentheater-26-mascha-2-0@pretix.eu
DTSTART;TZID=Europe/Berlin:20260903T163000
DTEND;TZID=Europe/Berlin:20260903T171500
DESCRIPTION:Tickets: https://pretix.eu/gartentheater/26-mascha-2/\nVeransta
 lter: Gartentheater Abtnaundorf
DTSTAMP:20260424T003233Z
LOCATION:Familienzentrum Thekla (FiZ Leipzig)\, Klingenthaler Str. 14\,\, 0
 4349 Leipzig
SUMMARY:Mascha und der Bär / Das Rübchen – ab 3 Jahre
END:VEVENT
END:VCALENDAR
