BEGIN:VCALENDAR
VERSION:2.0
PRODID:-//pretix//pretix.eu//
BEGIN:VTIMEZONE
TZID:Europe/Berlin
BEGIN:STANDARD
DTSTART:20001029T040000
RRULE:FREQ=YEARLY;BYDAY=-1SU;BYMONTH=10
TZNAME:CET
TZOFFSETFROM:+0200
TZOFFSETTO:+0100
END:STANDARD
BEGIN:DAYLIGHT
DTSTART:20000326T030000
RRULE:FREQ=YEARLY;BYDAY=-1SU;BYMONTH=3
TZNAME:CEST
TZOFFSETFROM:+0100
TZOFFSETTO:+0200
END:DAYLIGHT
END:VTIMEZONE
BEGIN:VEVENT
UID:pretix-gartentheater-26-minkepatt-0@pretix.eu
DTSTART;TZID=Europe/Berlin:20260927T110000
DTEND;TZID=Europe/Berlin:20260927T114500
DESCRIPTION:Tickets: https://pretix.eu/gartentheater/26-minkepatt/\nVeranst
 alter: Gartentheater Abtnaundorf
DTSTAMP:20260424T003446Z
LOCATION:KulturGut\, Schloss Schönefeld Leipzig\, Zeumerstraße 1\, 04347 
 Leipzig
SUMMARY:Herr Minkepatt – ab 5 Jahre
END:VEVENT
END:VCALENDAR
