BEGIN:VCALENDAR
VERSION:2.0
PRODID:-//pretix//pretix.eu//
BEGIN:VTIMEZONE
TZID:Europe/Berlin
BEGIN:STANDARD
DTSTART:20001029T040000
RRULE:FREQ=YEARLY;BYDAY=-1SU;BYMONTH=10
TZNAME:CET
TZOFFSETFROM:+0200
TZOFFSETTO:+0100
END:STANDARD
BEGIN:DAYLIGHT
DTSTART:20000326T030000
RRULE:FREQ=YEARLY;BYDAY=-1SU;BYMONTH=3
TZNAME:CEST
TZOFFSETFROM:+0100
TZOFFSETTO:+0200
END:DAYLIGHT
END:VTIMEZONE
BEGIN:VEVENT
UID:pretix-gartentheater-26-tulpe-0@pretix.eu
DTSTART;TZID=Europe/Berlin:20260710T200000
DTEND;TZID=Europe/Berlin:20260710T220000
DESCRIPTION:Tickets: https://pretix.eu/gartentheater/26-tulpe/\nVeranstalte
 r: Gartentheater Abtnaundorf
DTSTAMP:20260424T003402Z
LOCATION:»Gartentheater Abtnaundorf«\, Sternbachstraße 22\, 04347 Leipzig
SUMMARY:„Ich bin keine schwarze Tulpe“ – französische Chansons mit K
 arolina Petrova – ab 12 Jahre
END:VEVENT
END:VCALENDAR
