BEGIN:VCALENDAR
VERSION:2.0
PRODID:-//pretix//pretix.eu//
BEGIN:VTIMEZONE
TZID:Europe/Berlin
BEGIN:STANDARD
DTSTART:20001029T040000
RRULE:FREQ=YEARLY;BYDAY=-1SU;BYMONTH=10
TZNAME:CET
TZOFFSETFROM:+0200
TZOFFSETTO:+0100
END:STANDARD
BEGIN:DAYLIGHT
DTSTART:20000326T030000
RRULE:FREQ=YEARLY;BYDAY=-1SU;BYMONTH=3
TZNAME:CEST
TZOFFSETFROM:+0100
TZOFFSETTO:+0200
END:DAYLIGHT
END:VTIMEZONE
BEGIN:VEVENT
UID:pretix-gfl-wprb8-0@pretix.eu
DTSTART;TZID=Europe/Berlin:20260320T140000
DTEND;TZID=Europe/Berlin:20260320T160000
DESCRIPTION:Tickets: https://pretix.eu/gfl/wprb8/\nOrganizer: Green FabLab
DTSTAMP:20260419T143819Z
LOCATION:Green FabLab
SUMMARY:Young Creatives - OpenLab
END:VEVENT
BEGIN:VEVENT
UID:pretix-gfl-wprb8-2-0@pretix.eu
DTSTART;TZID=Europe/Berlin:20260327T140000
DTEND;TZID=Europe/Berlin:20260327T160000
DESCRIPTION:Tickets: https://pretix.eu/gfl/wprb8-2/\nOrganizer: Green FabLa
 b
DTSTAMP:20260419T143819Z
LOCATION:Green FabLab
SUMMARY:Young Creatives - OpenLab
END:VEVENT
BEGIN:VEVENT
UID:pretix-gfl-yfgjy-0@pretix.eu
DTSTART;TZID=Europe/Berlin:20260417T140000
DTEND;TZID=Europe/Berlin:20260417T160000
DESCRIPTION:Tickets: https://pretix.eu/gfl/yfgjy/\nOrganizer: Green FabLab
DTSTAMP:20260419T143819Z
LOCATION:Green FabLab
SUMMARY:Young Creatives - OpenLab
END:VEVENT
BEGIN:VEVENT
UID:pretix-gfl-yfgjy-2-0@pretix.eu
DTSTART;TZID=Europe/Berlin:20260424T140000
DTEND;TZID=Europe/Berlin:20260424T160000
DESCRIPTION:Tickets: https://pretix.eu/gfl/yfgjy-2/\nOrganizer: Green FabLa
 b
DTSTAMP:20260419T143819Z
LOCATION:Green FabLab
SUMMARY:Young Creatives - OpenLab
END:VEVENT
BEGIN:VEVENT
UID:pretix-gfl-yfgjy-3-0@pretix.eu
DTSTART;TZID=Europe/Berlin:20260508T140000
DTEND;TZID=Europe/Berlin:20260508T160000
DESCRIPTION:Tickets: https://pretix.eu/gfl/yfgjy-3/\nOrganizer: Green FabLa
 b
DTSTAMP:20260419T143819Z
LOCATION:Green FabLab
SUMMARY:Young Creatives - OpenLab
END:VEVENT
BEGIN:VEVENT
UID:pretix-gfl-yfgjy-4-0@pretix.eu
DTSTART;TZID=Europe/Berlin:20260515T140000
DTEND;TZID=Europe/Berlin:20260515T160000
DESCRIPTION:Tickets: https://pretix.eu/gfl/yfgjy-4/\nOrganizer: Green FabLa
 b
DTSTAMP:20260419T143819Z
LOCATION:Green FabLab
SUMMARY:Young Creatives - OpenLab
END:VEVENT
BEGIN:VEVENT
UID:pretix-gfl-yfgjy-5-0@pretix.eu
DTSTART;TZID=Europe/Berlin:20260522T140000
DTEND;TZID=Europe/Berlin:20260522T160000
DESCRIPTION:Tickets: https://pretix.eu/gfl/yfgjy-5/\nOrganizer: Green FabLa
 b
DTSTAMP:20260419T143819Z
LOCATION:Green FabLab
SUMMARY:Young Creatives - OpenLab
END:VEVENT
BEGIN:VEVENT
UID:pretix-gfl-7h7wq-0@pretix.eu
DTSTART;TZID=Europe/Berlin:20260529T140000
DTEND;TZID=Europe/Berlin:20260529T160000
DESCRIPTION:Tickets: https://pretix.eu/gfl/7h7wq/\nOrganizer: Green FabLab
DTSTAMP:20260419T143819Z
LOCATION:Green FabLab
SUMMARY:Young Creatives - OpenLab
END:VEVENT
BEGIN:VEVENT
UID:pretix-gfl-7h7wq-2-0@pretix.eu
DTSTART;TZID=Europe/Berlin:20260605T140000
DTEND;TZID=Europe/Berlin:20260605T160000
DESCRIPTION:Tickets: https://pretix.eu/gfl/7h7wq-2/\nOrganizer: Green FabLa
 b
DTSTAMP:20260419T143819Z
LOCATION:Green FabLab
SUMMARY:Young Creatives - OpenLab
END:VEVENT
BEGIN:VEVENT
UID:pretix-gfl-7h7wq-3-0@pretix.eu
DTSTART;TZID=Europe/Berlin:20260612T140000
DTEND;TZID=Europe/Berlin:20260612T160000
DESCRIPTION:Tickets: https://pretix.eu/gfl/7h7wq-3/\nOrganizer: Green FabLa
 b
DTSTAMP:20260419T143819Z
LOCATION:Green FabLab
SUMMARY:Young Creatives - OpenLab
END:VEVENT
BEGIN:VEVENT
UID:pretix-gfl-7h7wq-4-0@pretix.eu
DTSTART;TZID=Europe/Berlin:20260619T140000
DTEND;TZID=Europe/Berlin:20260619T160000
DESCRIPTION:Tickets: https://pretix.eu/gfl/7h7wq-4/\nOrganizer: Green FabLa
 b
DTSTAMP:20260419T143819Z
LOCATION:Green FabLab
SUMMARY:Young Creatives - OpenLab
END:VEVENT
BEGIN:VEVENT
UID:pretix-gfl-7h7wq-5-0@pretix.eu
DTSTART;TZID=Europe/Berlin:20260626T140000
DTEND;TZID=Europe/Berlin:20260626T160000
DESCRIPTION:Tickets: https://pretix.eu/gfl/7h7wq-5/\nOrganizer: Green FabLa
 b
DTSTAMP:20260419T143819Z
LOCATION:Green FabLab
SUMMARY:Young Creatives - OpenLab
END:VEVENT
BEGIN:VEVENT
UID:pretix-gfl-7h7wq-6-0@pretix.eu
DTSTART;TZID=Europe/Berlin:20260703T140000
DTEND;TZID=Europe/Berlin:20260703T160000
DESCRIPTION:Tickets: https://pretix.eu/gfl/7h7wq-6/\nOrganizer: Green FabLa
 b
DTSTAMP:20260419T143819Z
LOCATION:Green FabLab
SUMMARY:Young Creatives - OpenLab
END:VEVENT
BEGIN:VEVENT
UID:pretix-gfl-7h7wq-7-0@pretix.eu
DTSTART;TZID=Europe/Berlin:20260710T140000
DTEND;TZID=Europe/Berlin:20260710T160000
DESCRIPTION:Tickets: https://pretix.eu/gfl/7h7wq-7/\nOrganizer: Green FabLa
 b
DTSTAMP:20260419T143819Z
LOCATION:Green FabLab
SUMMARY:Young Creatives - OpenLab
END:VEVENT
BEGIN:VEVENT
UID:pretix-gfl-btwzf-0@pretix.eu
DTSTART;TZID=Europe/Berlin:20260717T140000
DTEND;TZID=Europe/Berlin:20260717T160000
DESCRIPTION:Tickets: https://pretix.eu/gfl/btwzf/\nOrganizer: Green FabLab
DTSTAMP:20260419T143819Z
LOCATION:Green FabLab
SUMMARY:Young Creatives - OpenLab
END:VEVENT
END:VCALENDAR
