BEGIN:VCALENDAR
VERSION:2.0
PRODID:-//pretix//pretix.eu//
BEGIN:VTIMEZONE
TZID:Europe/Berlin
BEGIN:STANDARD
DTSTART:20001029T040000
RRULE:FREQ=YEARLY;BYDAY=-1SU;BYMONTH=10
TZNAME:CET
TZOFFSETFROM:+0200
TZOFFSETTO:+0100
END:STANDARD
BEGIN:DAYLIGHT
DTSTART:20000326T030000
RRULE:FREQ=YEARLY;BYDAY=-1SU;BYMONTH=3
TZNAME:CEST
TZOFFSETFROM:+0100
TZOFFSETTO:+0200
END:DAYLIGHT
END:VTIMEZONE
BEGIN:VEVENT
UID:pretix-gi-Sicherheit2026-0@pretix.eu
DTSTART;TZID=Europe/Berlin:20260317T090000
DTEND;TZID=Europe/Berlin:20260319T180000
DESCRIPTION:Tickets: https://pretix.eu/gi/Sicherheit2026/\nVeranstalter: Ge
 sellschaft für Informatik e.V.
DTSTAMP:20260421T110507Z
LOCATION:HAW Hamburg\, Campus Bergedorf\, Ulmenliet 20\, 21033 Hamburg
SUMMARY:Sicherheit 2026
END:VEVENT
END:VCALENDAR
