BEGIN:VCALENDAR
VERSION:2.0
PRODID:-//pretix//pretix.eu//
BEGIN:VTIMEZONE
TZID:Europe/Berlin
BEGIN:STANDARD
DTSTART:20001029T040000
RRULE:FREQ=YEARLY;BYDAY=-1SU;BYMONTH=10
TZNAME:CET
TZOFFSETFROM:+0200
TZOFFSETTO:+0100
END:STANDARD
BEGIN:DAYLIGHT
DTSTART:20000326T030000
RRULE:FREQ=YEARLY;BYDAY=-1SU;BYMONTH=3
TZNAME:CEST
TZOFFSETFROM:+0100
TZOFFSETTO:+0200
END:DAYLIGHT
END:VTIMEZONE
BEGIN:VEVENT
UID:pretix-giesinger-bahnhof.de-Puppen-3820191@pretix.eu
DTSTART;TZID=Europe/Berlin:20230217T160000
DTEND;TZID=Europe/Berlin:20230217T170000
DESCRIPTION:Tickets: https://pretix.eu/giesinger-bahnhof.de/Puppen/3820191/
 \nEinlass: 17.02.2023 16:45\nVeranstalter: Kulturzentrum Giesinger Bahnhof
DTSTAMP:20260423T014838Z
LOCATION:Kulturzentrum Giesinger Bahnhof
SUMMARY:Faschings-Puppenzirkus
END:VEVENT
END:VCALENDAR
