BEGIN:VCALENDAR
VERSION:2.0
PRODID:-//pretix//pretix.eu//
BEGIN:VTIMEZONE
TZID:Europe/Berlin
BEGIN:STANDARD
DTSTART:20001029T040000
RRULE:FREQ=YEARLY;BYDAY=-1SU;BYMONTH=10
TZNAME:CET
TZOFFSETFROM:+0200
TZOFFSETTO:+0100
END:STANDARD
BEGIN:DAYLIGHT
DTSTART:20000326T030000
RRULE:FREQ=YEARLY;BYDAY=-1SU;BYMONTH=3
TZNAME:CEST
TZOFFSETFROM:+0100
TZOFFSETTO:+0200
END:DAYLIGHT
END:VTIMEZONE
BEGIN:VEVENT
UID:pretix-giessenmarketing-akustik-jukebox-0@pretix.eu
DTSTART;TZID=Europe/Berlin:20210822T190000
DTEND;TZID=Europe/Berlin:20210822T200000
DESCRIPTION:Tickets: https://pretix.eu/giessenmarketing/akustik-jukebox/\nE
 inlass: 22.08.2021 18:30\nVeranstalter: Gießen Marketing GmbH
DTSTAMP:20260419T135835Z
LOCATION:Hof des Liebig-Museums | Liebigstraße 12\, 35390 Gießen
SUMMARY:NeuGIerig – Akustik Jukebox
END:VEVENT
END:VCALENDAR
