BEGIN:VCALENDAR
VERSION:2.0
PRODID:-//pretix//pretix.eu//
BEGIN:VTIMEZONE
TZID:Europe/Berlin
BEGIN:STANDARD
DTSTART:20001029T040000
RRULE:FREQ=YEARLY;BYDAY=-1SU;BYMONTH=10
TZNAME:CET
TZOFFSETFROM:+0200
TZOFFSETTO:+0100
END:STANDARD
BEGIN:DAYLIGHT
DTSTART:20000326T030000
RRULE:FREQ=YEARLY;BYDAY=-1SU;BYMONTH=3
TZNAME:CEST
TZOFFSETFROM:+0100
TZOFFSETTO:+0200
END:DAYLIGHT
END:VTIMEZONE
BEGIN:VEVENT
UID:pretix-giessenmarketing-eisstockgi-2666572@pretix.eu
DTSTART;TZID=Europe/Berlin:20211201T173000
DTEND;TZID=Europe/Berlin:20211201T183000
DESCRIPTION:Tickets: https://pretix.eu/giessenmarketing/eisstockgi/2666572/
 \nVeranstalter: Gießen Marketing GmbH
DTSTAMP:20260423T090150Z
LOCATION:Kirchenplatz\, 35390 Gießen
SUMMARY:Eisstockschießen Eisbahn Gießen
END:VEVENT
END:VCALENDAR
