BEGIN:VCALENDAR
VERSION:2.0
PRODID:-//pretix//pretix.eu//
BEGIN:VTIMEZONE
TZID:Europe/Berlin
BEGIN:STANDARD
DTSTART:20001029T040000
RRULE:FREQ=YEARLY;BYDAY=-1SU;BYMONTH=10
TZNAME:CET
TZOFFSETFROM:+0200
TZOFFSETTO:+0100
END:STANDARD
BEGIN:DAYLIGHT
DTSTART:20000326T030000
RRULE:FREQ=YEARLY;BYDAY=-1SU;BYMONTH=3
TZNAME:CEST
TZOFFSETFROM:+0100
TZOFFSETTO:+0200
END:DAYLIGHT
END:VTIMEZONE
BEGIN:VEVENT
UID:pretix-giessenmarketing-picknick26FM-0@pretix.eu
DTSTART;TZID=Europe/Berlin:20260328T134000
DTEND;TZID=Europe/Berlin:20260328T144000
DESCRIPTION:Tickets: https://pretix.eu/giessenmarketing/picknick26FM/\nOrga
 nizer: Gießen Marketing GmbH
DTSTAMP:20260425T104747Z
LOCATION:Gießen\, Messeplatz (im Riesenrad)
SUMMARY:Minipicknick im Riesenrad
END:VEVENT
BEGIN:VEVENT
UID:pretix-giessenmarketing-scienceseeing-0@pretix.eu
DTSTART;TZID=Europe/Berlin:20260507T160000
DTEND;TZID=Europe/Berlin:20260507T170000
DESCRIPTION:Tickets: https://pretix.eu/giessenmarketing/scienceseeing/\nOrg
 anizer: Gießen Marketing GmbH
DTSTAMP:20260425T104747Z
LOCATION:Treffpunkt: InfoCenter der THM Wiesenstraße
SUMMARY:THM Science-Seeing
END:VEVENT
BEGIN:VEVENT
UID:pretix-giessenmarketing-scienceseeing-2-0@pretix.eu
DTSTART;TZID=Europe/Berlin:20261105T160000
DTEND;TZID=Europe/Berlin:20261105T170000
DESCRIPTION:Tickets: https://pretix.eu/giessenmarketing/scienceseeing-2/\nO
 rganizer: Gießen Marketing GmbH
DTSTAMP:20260425T104747Z
LOCATION:Treffpunkt: InfoCenter der THM Wiesenstraße
SUMMARY:THM Science-Seeing
END:VEVENT
END:VCALENDAR
