BEGIN:VCALENDAR
VERSION:2.0
PRODID:-//pretix//pretix.eu//
BEGIN:VTIMEZONE
TZID:Europe/Berlin
BEGIN:STANDARD
DTSTART:20001029T040000
RRULE:FREQ=YEARLY;BYDAY=-1SU;BYMONTH=10
TZNAME:CET
TZOFFSETFROM:+0200
TZOFFSETTO:+0100
END:STANDARD
BEGIN:DAYLIGHT
DTSTART:20000326T030000
RRULE:FREQ=YEARLY;BYDAY=-1SU;BYMONTH=3
TZNAME:CEST
TZOFFSETFROM:+0100
TZOFFSETTO:+0200
END:DAYLIGHT
END:VTIMEZONE
BEGIN:VEVENT
UID:pretix-giessenmarketing-vzg-0@pretix.eu
DTSTART;TZID=Europe/Berlin:20210910T180000
DTEND;TZID=Europe/Berlin:20210910T190000
DESCRIPTION:Tickets: https://pretix.eu/giessenmarketing/vzg/\nEinlass: 10.0
 9.2021 17:30\nVeranstalter: Gießen Marketing GmbH
DTSTAMP:20260425T190445Z
LOCATION:Oberstes Parkdeck\, Galerie Neustädter Tor | Neustadt 28\, 35390 
 Gießen
SUMMARY:NeuGIerig - "Vorzimmergeschichten"
END:VEVENT
END:VCALENDAR
