BEGIN:VCALENDAR
VERSION:2.0
PRODID:-//pretix//pretix.eu//
BEGIN:VTIMEZONE
TZID:Europe/Berlin
BEGIN:STANDARD
DTSTART:20001029T040000
RRULE:FREQ=YEARLY;BYDAY=-1SU;BYMONTH=10
TZNAME:CET
TZOFFSETFROM:+0200
TZOFFSETTO:+0100
END:STANDARD
BEGIN:DAYLIGHT
DTSTART:20000326T030000
RRULE:FREQ=YEARLY;BYDAY=-1SU;BYMONTH=3
TZNAME:CEST
TZOFFSETFROM:+0100
TZOFFSETTO:+0200
END:DAYLIGHT
END:VTIMEZONE
BEGIN:VEVENT
UID:pretix-gj-niedersachsen-lmv-2024-2-0@pretix.eu
DTSTART;TZID=Europe/Berlin:20241108T160000
DTEND;TZID=Europe/Berlin:20241110T160000
DESCRIPTION:Tickets: https://pretix.eu/gj-niedersachsen/lmv-2024-2/\nEinlas
 s: 08.11.2024 16:00\nVeranstalter: GRÜNE JUGEND Niedersachsen
DTSTAMP:20260422T104541Z
LOCATION:DJH Jugendherberge Goslar
SUMMARY:Landesmitgliederversammlung 2024-2 (Goslar)
END:VEVENT
END:VCALENDAR
