BEGIN:VCALENDAR
VERSION:2.0
PRODID:-//pretix//pretix.eu//
BEGIN:VEVENT
UID:pretix-globe-Preview-0@pretix.eu
DTSTART;VALUE=DATE:20251107
DTEND;VALUE=DATE:20251110
DESCRIPTION:Tickets: https://pretix.eu/globe/Preview/\nEinlass: 07.11.2025 
 00:00\nVeranstalter: Gemeinnützige Kulturgenossenschaft Globe e.G
DTSTAMP:20260422T161150Z
LOCATION:Gemeinnützige Kulturgenossenschaft Globe e.G.\, Beverbäker Wiese
 n 4\, 26123 Oldenburg
SUMMARY:GLOBE - Preview Festival
END:VEVENT
END:VCALENDAR
