BEGIN:VCALENDAR
VERSION:2.0
PRODID:-//pretix//pretix.eu//
BEGIN:VTIMEZONE
TZID:Europe/Berlin
BEGIN:STANDARD
DTSTART:20001029T040000
RRULE:FREQ=YEARLY;BYDAY=-1SU;BYMONTH=10
TZNAME:CET
TZOFFSETFROM:+0200
TZOFFSETTO:+0100
END:STANDARD
BEGIN:DAYLIGHT
DTSTART:20000326T030000
RRULE:FREQ=YEARLY;BYDAY=-1SU;BYMONTH=3
TZNAME:CEST
TZOFFSETFROM:+0100
TZOFFSETTO:+0200
END:DAYLIGHT
END:VTIMEZONE
BEGIN:VEVENT
UID:pretix-greenpeaceherbstkonferenz-jaggios-4904032@pretix.eu
DTSTART;TZID=Europe/Berlin:20260611T170000
DTEND;TZID=Europe/Berlin:20260614T120000
DESCRIPTION:Tickets: https://pretix.eu/greenpeaceherbstkonferenz/jaggios/49
 04032/\nVeranstalter: Greenpeace
DTSTAMP:20260421T070305Z
LOCATION:Werbelinsee
SUMMARY:Jaggio Greencamp 11.-14.06.
END:VEVENT
END:VCALENDAR
