BEGIN:VCALENDAR
VERSION:2.0
PRODID:-//pretix//pretix.eu//
BEGIN:VTIMEZONE
TZID:Europe/Copenhagen
BEGIN:STANDARD
DTSTART:20001029T040000
RRULE:FREQ=YEARLY;BYDAY=-1SU;BYMONTH=10
TZNAME:CET
TZOFFSETFROM:+0200
TZOFFSETTO:+0100
END:STANDARD
BEGIN:DAYLIGHT
DTSTART:20000326T030000
RRULE:FREQ=YEARLY;BYDAY=-1SU;BYMONTH=3
TZNAME:CEST
TZOFFSETFROM:+0100
TZOFFSETTO:+0200
END:DAYLIGHT
END:VTIMEZONE
BEGIN:VEVENT
UID:pretix-gtm-bygning-0@pretix.eu
DTSTART;TZID=Europe/Copenhagen:20231211T093000
DTEND;TZID=Europe/Copenhagen:20231211T150000
DESCRIPTION:Tickets: https://pretix.eu/gtm/bygning/\nOrganizer: GovTech Mid
 tjylland
DTSTAMP:20260422T150130Z
LOCATION:Dokk1\, Hack Kampmanns plads 2\, 8000\, Aarhus C
SUMMARY:Afslutningsevent om Optimeret bygningsanvendelse
END:VEVENT
END:VCALENDAR
