BEGIN:VCALENDAR
VERSION:2.0
PRODID:-//pretix//pretix.eu//
BEGIN:VTIMEZONE
TZID:Europe/Berlin
BEGIN:STANDARD
DTSTART:20001029T040000
RRULE:FREQ=YEARLY;BYDAY=-1SU;BYMONTH=10
TZNAME:CET
TZOFFSETFROM:+0200
TZOFFSETTO:+0100
END:STANDARD
BEGIN:DAYLIGHT
DTSTART:20000326T030000
RRULE:FREQ=YEARLY;BYDAY=-1SU;BYMONTH=3
TZNAME:CEST
TZOFFSETFROM:+0100
TZOFFSETTO:+0200
END:DAYLIGHT
END:VTIMEZONE
BEGIN:VEVENT
UID:pretix-gutsmuthsjena-svgmvssvfbd-2-0@pretix.eu
DTSTART;TZID=Europe/Berlin:20241123T170000
DTEND;TZID=Europe/Berlin:20241123T220000
DESCRIPTION:Tickets: https://pretix.eu/gutsmuthsjena/svgmvssvfbd-2/\nVerans
 talter: SV GutsMuths Jena e.V.
DTSTAMP:20260422T195316Z
LOCATION:Ilm-sporthalle\, Richard-Bock-Straße 10\, 98693 Ilmenau
SUMMARY:SV GutsMuths Jena vs. HSG DHfK  Leipzig
END:VEVENT
END:VCALENDAR
