BEGIN:VCALENDAR
VERSION:2.0
PRODID:-//pretix//pretix.eu//
BEGIN:VTIMEZONE
TZID:Europe/Berlin
BEGIN:STANDARD
DTSTART:20001029T040000
RRULE:FREQ=YEARLY;BYDAY=-1SU;BYMONTH=10
TZNAME:CET
TZOFFSETFROM:+0200
TZOFFSETTO:+0100
END:STANDARD
BEGIN:DAYLIGHT
DTSTART:20000326T030000
RRULE:FREQ=YEARLY;BYDAY=-1SU;BYMONTH=3
TZNAME:CEST
TZOFFSETFROM:+0100
TZOFFSETTO:+0200
END:DAYLIGHT
END:VTIMEZONE
BEGIN:VEVENT
UID:pretix-gutsmuthsjena-ticket-3496600@pretix.eu
DTSTART;TZID=Europe/Berlin:20220924T170000
DTEND;TZID=Europe/Berlin:20230402T140000
DESCRIPTION:Tickets: https://pretix.eu/gutsmuthsjena/ticket/3496600/\nVeran
 stalter: SV GutsMuths Jena e.V.
DTSTAMP:20260424T203148Z
LOCATION:Sportgymnasium Jena\, Spielhalle\, Wöllnmitzer Str. 40\, 07749 Je
 na
SUMMARY:Badminton 2. Bundesliga | Dauerkarte | Saison 2022/2023 | SV GutsMu
 ths Jena e.V.
END:VEVENT
END:VCALENDAR
