BEGIN:VCALENDAR
VERSION:2.0
PRODID:-//pretix//pretix.eu//
BEGIN:VTIMEZONE
TZID:Europe/Berlin
BEGIN:STANDARD
DTSTART:20001029T040000
RRULE:FREQ=YEARLY;BYDAY=-1SU;BYMONTH=10
TZNAME:CET
TZOFFSETFROM:+0200
TZOFFSETTO:+0100
END:STANDARD
BEGIN:DAYLIGHT
DTSTART:20000326T030000
RRULE:FREQ=YEARLY;BYDAY=-1SU;BYMONTH=3
TZNAME:CEST
TZOFFSETFROM:+0100
TZOFFSETTO:+0200
END:DAYLIGHT
END:VTIMEZONE
BEGIN:VEVENT
UID:pretix-gvip-community01-4870326@pretix.eu
DTSTART;TZID=Europe/Berlin:20260319T170300
DTEND;TZID=Europe/Berlin:20260319T175700
DESCRIPTION:Tickets: https://pretix.eu/gvip/community01/4870326/\nAdmission
 : 2026-03-30 17:00\nOrganizer: the Global Vulnerability Intelligence Platf
 orm project
DTSTAMP:20260420T222245Z
LOCATION:Virtual
SUMMARY:GVIP Community meeting #04
END:VEVENT
END:VCALENDAR
