BEGIN:VCALENDAR
VERSION:2.0
PRODID:-//pretix//pretix.eu//
BEGIN:VTIMEZONE
TZID:Europe/Berlin
BEGIN:STANDARD
DTSTART:20001029T040000
RRULE:FREQ=YEARLY;BYDAY=-1SU;BYMONTH=10
TZNAME:CET
TZOFFSETFROM:+0200
TZOFFSETTO:+0100
END:STANDARD
BEGIN:DAYLIGHT
DTSTART:20000326T030000
RRULE:FREQ=YEARLY;BYDAY=-1SU;BYMONTH=3
TZNAME:CEST
TZOFFSETFROM:+0100
TZOFFSETTO:+0200
END:DAYLIGHT
END:VTIMEZONE
BEGIN:VEVENT
UID:pretix-gvip-community01-4922080@pretix.eu
DTSTART;TZID=Europe/Berlin:20260415T083200
DTEND;TZID=Europe/Berlin:20260415T092800
DESCRIPTION:Tickets: https://pretix.eu/gvip/community01/4922080/\nOrganizer
 : the Global Vulnerability Intelligence Platform project
DTSTAMP:20260421T052031Z
LOCATION:Virtual https://us06web.zoom.us/j/84379837389?pwd=hqgWInbnC56wVdpt
 lbPSSqRz6otWZ0.1
SUMMARY:GVIP Community meeting #05
END:VEVENT
END:VCALENDAR
