BEGIN:VCALENDAR
VERSION:2.0
PRODID:-//pretix//pretix.eu//
BEGIN:VTIMEZONE
TZID:Europe/Berlin
BEGIN:STANDARD
DTSTART:20001029T040000
RRULE:FREQ=YEARLY;BYDAY=-1SU;BYMONTH=10
TZNAME:CET
TZOFFSETFROM:+0200
TZOFFSETTO:+0100
END:STANDARD
BEGIN:DAYLIGHT
DTSTART:20000326T030000
RRULE:FREQ=YEARLY;BYDAY=-1SU;BYMONTH=3
TZNAME:CEST
TZOFFSETFROM:+0100
TZOFFSETTO:+0200
END:DAYLIGHT
END:VTIMEZONE
BEGIN:VEVENT
UID:pretix-gvip-community01-4922084@pretix.eu
DTSTART;TZID=Europe/Berlin:20260416T170300
DTEND;TZID=Europe/Berlin:20260416T175700
DESCRIPTION:Tickets: https://pretix.eu/gvip/community01/4922084/\nAdmission
 : 2026-04-16 17:00\nOrganizer: the Global Vulnerability Intelligence Platf
 orm project
DTSTAMP:20260421T052029Z
LOCATION:Virtual https://us06web.zoom.us/j/82508450743?pwd=Utvl9quLCRGf9TO6
 cxzLUeieuAlLbt.1
SUMMARY:GVIP Community meeting #06
END:VEVENT
END:VCALENDAR
