BEGIN:VCALENDAR
VERSION:2.0
PRODID:-//pretix//pretix.eu//
BEGIN:VTIMEZONE
TZID:Europe/Berlin
BEGIN:STANDARD
DTSTART:20001029T040000
RRULE:FREQ=YEARLY;BYDAY=-1SU;BYMONTH=10
TZNAME:CET
TZOFFSETFROM:+0200
TZOFFSETTO:+0100
END:STANDARD
BEGIN:DAYLIGHT
DTSTART:20000326T030000
RRULE:FREQ=YEARLY;BYDAY=-1SU;BYMONTH=3
TZNAME:CEST
TZOFFSETFROM:+0100
TZOFFSETTO:+0200
END:DAYLIGHT
END:VTIMEZONE
BEGIN:VEVENT
UID:pretix-gvip-summit01-0@pretix.eu
DTSTART;TZID=Europe/Berlin:20260128T090000
DTEND;TZID=Europe/Berlin:20260128T170000
DESCRIPTION:Tickets: https://pretix.eu/gvip/summit01/\nAdmission: 2026-01-2
 8 08:30\nOrganizer: the Global Vulnerability Intelligence Platform project
DTSTAMP:20260420T213923Z
LOCATION:Hotel Bedford\, Brussels\, 135-137 Rue du Midi\, Belgium
SUMMARY:GVIP Summit #01
END:VEVENT
END:VCALENDAR
