BEGIN:VCALENDAR
VERSION:2.0
PRODID:-//pretix//pretix.eu//
BEGIN:VTIMEZONE
TZID:Europe/Berlin
BEGIN:STANDARD
DTSTART:20001029T040000
RRULE:FREQ=YEARLY;BYDAY=-1SU;BYMONTH=10
TZNAME:CET
TZOFFSETFROM:+0200
TZOFFSETTO:+0100
END:STANDARD
BEGIN:DAYLIGHT
DTSTART:20000326T030000
RRULE:FREQ=YEARLY;BYDAY=-1SU;BYMONTH=3
TZNAME:CEST
TZOFFSETFROM:+0100
TZOFFSETTO:+0200
END:DAYLIGHT
END:VTIMEZONE
BEGIN:VEVENT
UID:pretix-gwbb-Sola-0@pretix.eu
DTSTART;TZID=Europe/Berlin:20210718T140000
DTEND;TZID=Europe/Berlin:20210724T140000
DESCRIPTION:Tickets: https://pretix.eu/gwbb/Sola/\nEinlass: 18.12.2020 14:0
 0\nVeranstalter: Gemeinschaftswerk Berlin-Brandenburg innerhalb der Ev. Ki
 rche e.V.
DTSTAMP:20260422T162351Z
LOCATION:Lagerplatz SoLa\, Guhrower Str. 4\, 03096 Briesen\, Der Treffpunkt
 \, von dem aus die Kinder zum SoLa Gelände wandern\, wird noch bekannt ge
 geben.
SUMMARY:SOLA Spreewald
END:VEVENT
END:VCALENDAR
