BEGIN:VCALENDAR
VERSION:2.0
PRODID:-//pretix//pretix.eu//
BEGIN:VTIMEZONE
TZID:Europe/Berlin
BEGIN:STANDARD
DTSTART:20001029T040000
RRULE:FREQ=YEARLY;BYDAY=-1SU;BYMONTH=10
TZNAME:CET
TZOFFSETFROM:+0200
TZOFFSETTO:+0100
END:STANDARD
BEGIN:DAYLIGHT
DTSTART:20000326T030000
RRULE:FREQ=YEARLY;BYDAY=-1SU;BYMONTH=3
TZNAME:CEST
TZOFFSETFROM:+0100
TZOFFSETTO:+0200
END:DAYLIGHT
END:VTIMEZONE
BEGIN:VEVENT
UID:pretix-gwoe-bbb-gewerkschaften-0@pretix.eu
DTSTART;TZID=Europe/Berlin:20260115T183000
DTEND;TZID=Europe/Berlin:20260115T210000
DESCRIPTION:Tickets: https://pretix.eu/gwoe-bbb/gewerkschaften/\nVeranstalt
 er: Gemeinwohl-Ökonomie Berlin-Brandenburg e.V.
DTSTAMP:20260422T122418Z
LOCATION:Dragonerareal
SUMMARY:Gemeinwohl-Ökonomie und Gewerkschaften
END:VEVENT
END:VCALENDAR
