BEGIN:VCALENDAR
VERSION:2.0
PRODID:-//pretix//pretix.eu//
BEGIN:VTIMEZONE
TZID:Europe/Berlin
BEGIN:STANDARD
DTSTART:20001029T040000
RRULE:FREQ=YEARLY;BYDAY=-1SU;BYMONTH=10
TZNAME:CET
TZOFFSETFROM:+0200
TZOFFSETTO:+0100
END:STANDARD
BEGIN:DAYLIGHT
DTSTART:20000326T030000
RRULE:FREQ=YEARLY;BYDAY=-1SU;BYMONTH=3
TZNAME:CEST
TZOFFSETFROM:+0100
TZOFFSETTO:+0200
END:DAYLIGHT
END:VTIMEZONE
BEGIN:VEVENT
UID:pretix-gwoe-bbb-winterfest-0@pretix.eu
DTSTART;TZID=Europe/Berlin:20251215T180000
DTEND;TZID=Europe/Berlin:20251215T220000
DESCRIPTION:Tickets: https://pretix.eu/gwoe-bbb/winterfest/\nVeranstalter: 
 Gemeinwohl-Ökonomie Berlin-Brandenburg e.V.
DTSTAMP:20260422T102642Z
LOCATION:Karl-Liebknecht-Straße 34\, 10178 Berlin
SUMMARY:Winterfest
END:VEVENT
END:VCALENDAR
