BEGIN:VCALENDAR
VERSION:2.0
PRODID:-//pretix//pretix.eu//
BEGIN:VTIMEZONE
TZID:Europe/Berlin
BEGIN:STANDARD
DTSTART:20001029T040000
RRULE:FREQ=YEARLY;BYDAY=-1SU;BYMONTH=10
TZNAME:CET
TZOFFSETFROM:+0200
TZOFFSETTO:+0100
END:STANDARD
BEGIN:DAYLIGHT
DTSTART:20000326T030000
RRULE:FREQ=YEARLY;BYDAY=-1SU;BYMONTH=3
TZNAME:CEST
TZOFFSETFROM:+0100
TZOFFSETTO:+0200
END:DAYLIGHT
END:VTIMEZONE
BEGIN:VEVENT
UID:pretix-gwu-sommerfest2-0@pretix.eu
DTSTART;TZID=Europe/Berlin:20240912T160000
DTEND;TZID=Europe/Berlin:20240912T200000
DESCRIPTION:Tickets: https://pretix.eu/gwu/sommerfest2/\nVeranstalter: Netz
 werk Gemeinwohl-Ökonomie Unternehmen in Berlin-Brandenburg e.V.
DTSTAMP:20260423T021155Z
LOCATION:Spreefeld\, Wilhelmine-Gemberg-Weg 14\, 10179 Berlin
SUMMARY:Sommerfest: Kooperation statt Konkurrenz - Neue Arbeitswelten brauc
 hen neue Geschichten
END:VEVENT
END:VCALENDAR
