BEGIN:VCALENDAR
VERSION:2.0
PRODID:-//pretix//pretix.eu//
BEGIN:VTIMEZONE
TZID:Europe/Berlin
BEGIN:STANDARD
DTSTART:20001029T040000
RRULE:FREQ=YEARLY;BYDAY=-1SU;BYMONTH=10
TZNAME:CET
TZOFFSETFROM:+0200
TZOFFSETTO:+0100
END:STANDARD
BEGIN:DAYLIGHT
DTSTART:20000326T030000
RRULE:FREQ=YEARLY;BYDAY=-1SU;BYMONTH=3
TZNAME:CEST
TZOFFSETFROM:+0100
TZOFFSETTO:+0200
END:DAYLIGHT
END:VTIMEZONE
BEGIN:VEVENT
UID:pretix-hann-muenden-feierabend-0@pretix.eu
DTSTART;TZID=Europe/Berlin:20260708T170000
DTEND;TZID=Europe/Berlin:20260708T193000
DESCRIPTION:Tickets: https://pretix.eu/hann-muenden/feierabend/\nVeranstalt
 er: Hann. Münden Marketing GmbH
DTSTAMP:20260423T191913Z
LOCATION:Gaußturm\, 37127 Dransfeld (Parkplatz)
SUMMARY:Feierabendwanderung zum Mittelpunkt der Erde
END:VEVENT
END:VCALENDAR
