BEGIN:VCALENDAR
VERSION:2.0
PRODID:-//pretix//pretix.eu//
BEGIN:VTIMEZONE
TZID:US/Pacific
BEGIN:STANDARD
DTSTART:20001029T030000
RRULE:FREQ=YEARLY;BYDAY=-1SU;BYMONTH=10;UNTIL=20061029T100000Z
TZNAME:PST
TZOFFSETFROM:-0700
TZOFFSETTO:-0800
END:STANDARD
BEGIN:STANDARD
DTSTART:20071104T030000
RRULE:FREQ=YEARLY;BYDAY=1SU;BYMONTH=11
TZNAME:PST
TZOFFSETFROM:-0700
TZOFFSETTO:-0800
END:STANDARD
BEGIN:DAYLIGHT
DTSTART:20000402T030000
RRULE:FREQ=YEARLY;BYDAY=1SU;BYMONTH=4;UNTIL=20060402T110000Z
TZNAME:PDT
TZOFFSETFROM:-0800
TZOFFSETTO:-0700
END:DAYLIGHT
BEGIN:DAYLIGHT
DTSTART:20070311T030000
RRULE:FREQ=YEARLY;BYDAY=2SU;BYMONTH=3
TZNAME:PDT
TZOFFSETFROM:-0800
TZOFFSETTO:-0700
END:DAYLIGHT
END:VTIMEZONE
BEGIN:VEVENT
UID:pretix-harlemwizards-HalfMoonBay-0@pretix.eu
DTSTART;TZID=US/Pacific:20230122T160000
DTEND;TZID=US/Pacific:20230122T180000
DESCRIPTION:Tickets: https://pretix.eu/harlemwizards/HalfMoonBay/\nAdmissio
 n: 01/22/2023 3 p.m.\nOrganizer: The Harlem Wizards
DTSTAMP:20260422T184255Z
LOCATION:Boys & Girls Club of the Coastside 530 Kelly Street
SUMMARY:Half Moon Bay\, CA
END:VEVENT
END:VCALENDAR
