BEGIN:VCALENDAR
VERSION:2.0
PRODID:-//pretix//pretix.eu//
BEGIN:VTIMEZONE
TZID:US/Mountain
BEGIN:STANDARD
DTSTART:20001029T030000
RRULE:FREQ=YEARLY;BYDAY=-1SU;BYMONTH=10;UNTIL=20061029T090000Z
TZNAME:MST
TZOFFSETFROM:-0600
TZOFFSETTO:-0700
END:STANDARD
BEGIN:STANDARD
DTSTART:20071104T030000
RRULE:FREQ=YEARLY;BYDAY=1SU;BYMONTH=11
TZNAME:MST
TZOFFSETFROM:-0600
TZOFFSETTO:-0700
END:STANDARD
BEGIN:DAYLIGHT
DTSTART:20000402T030000
RRULE:FREQ=YEARLY;BYDAY=1SU;BYMONTH=4;UNTIL=20060402T100000Z
TZNAME:MDT
TZOFFSETFROM:-0700
TZOFFSETTO:-0600
END:DAYLIGHT
BEGIN:DAYLIGHT
DTSTART:20070311T030000
RRULE:FREQ=YEARLY;BYDAY=2SU;BYMONTH=3
TZNAME:MDT
TZOFFSETFROM:-0700
TZOFFSETTO:-0600
END:DAYLIGHT
END:VTIMEZONE
BEGIN:VEVENT
UID:pretix-harlemwizards-Kersey-0@pretix.eu
DTSTART;TZID=US/Mountain:20221117T183000
DTEND;TZID=US/Mountain:20221117T203000
DESCRIPTION:Tickets: https://pretix.eu/harlemwizards/Kersey/\nAdmission: 11
 /17/2022 5:30 p.m.\nOrganizer: The Harlem Wizards
DTSTAMP:20260423T040049Z
LOCATION:Platte Valley High School 901 Campbell Street Kersey
SUMMARY:Kersey\, CO
END:VEVENT
END:VCALENDAR
