BEGIN:VCALENDAR
VERSION:2.0
PRODID:-//pretix//pretix.eu//
BEGIN:VTIMEZONE
TZID:US/Mountain
BEGIN:STANDARD
DTSTART:20001029T030000
RRULE:FREQ=YEARLY;BYDAY=-1SU;BYMONTH=10;UNTIL=20061029T090000Z
TZNAME:MST
TZOFFSETFROM:-0600
TZOFFSETTO:-0700
END:STANDARD
BEGIN:STANDARD
DTSTART:20071104T030000
RRULE:FREQ=YEARLY;BYDAY=1SU;BYMONTH=11
TZNAME:MST
TZOFFSETFROM:-0600
TZOFFSETTO:-0700
END:STANDARD
BEGIN:DAYLIGHT
DTSTART:20000402T030000
RRULE:FREQ=YEARLY;BYDAY=1SU;BYMONTH=4;UNTIL=20060402T100000Z
TZNAME:MDT
TZOFFSETFROM:-0700
TZOFFSETTO:-0600
END:DAYLIGHT
BEGIN:DAYLIGHT
DTSTART:20070311T030000
RRULE:FREQ=YEARLY;BYDAY=2SU;BYMONTH=3
TZNAME:MDT
TZOFFSETFROM:-0700
TZOFFSETTO:-0600
END:DAYLIGHT
END:VTIMEZONE
BEGIN:VEVENT
UID:pretix-harlemwizards-Monument-0@pretix.eu
DTSTART;TZID=US/Mountain:20221116T190000
DTEND;TZID=US/Mountain:20221116T210000
DESCRIPTION:Tickets: https://pretix.eu/harlemwizards/Monument/\nAdmission: 
 11/16/2022 6 p.m.\nOrganizer: The Harlem Wizards
DTSTAMP:20260423T040108Z
LOCATION:Palmer Ridge HS 19255 Frontage Rd\, Monument CO
SUMMARY:Monument\, CO
END:VEVENT
END:VCALENDAR
