BEGIN:VCALENDAR
VERSION:2.0
PRODID:-//pretix//pretix.eu//
BEGIN:VTIMEZONE
TZID:US/Eastern
BEGIN:STANDARD
DTSTART:20001029T030000
RRULE:FREQ=YEARLY;BYDAY=-1SU;BYMONTH=10;UNTIL=20061029T070000Z
TZNAME:EST
TZOFFSETFROM:-0400
TZOFFSETTO:-0500
END:STANDARD
BEGIN:STANDARD
DTSTART:20071104T030000
RRULE:FREQ=YEARLY;BYDAY=1SU;BYMONTH=11
TZNAME:EST
TZOFFSETFROM:-0400
TZOFFSETTO:-0500
END:STANDARD
BEGIN:DAYLIGHT
DTSTART:20000402T030000
RRULE:FREQ=YEARLY;BYDAY=1SU;BYMONTH=4;UNTIL=20060402T080000Z
TZNAME:EDT
TZOFFSETFROM:-0500
TZOFFSETTO:-0400
END:DAYLIGHT
BEGIN:DAYLIGHT
DTSTART:20070311T030000
RRULE:FREQ=YEARLY;BYDAY=2SU;BYMONTH=3
TZNAME:EDT
TZOFFSETFROM:-0500
TZOFFSETTO:-0400
END:DAYLIGHT
END:VTIMEZONE
BEGIN:VEVENT
UID:pretix-harlemwizards-thefinalscore-0@pretix.eu
DTSTART;TZID=US/Eastern:20240615T180000
DTEND;TZID=US/Eastern:20240615T210000
DESCRIPTION:Tickets: https://pretix.eu/harlemwizards/thefinalscore/\nOrgani
 zer: The Harlem Wizards
DTSTAMP:20260420T130318Z
LOCATION:St. Raymond High School for Boys\, 2151 St. Raymond Ave.\, Bronx\,
  NY 10462
SUMMARY:The Final Score: Celebrating Eric "Broadway" Jones
END:VEVENT
END:VCALENDAR
