BEGIN:VCALENDAR
VERSION:2.0
PRODID:-//pretix//pretix.eu//
BEGIN:VTIMEZONE
TZID:Europe/Berlin
BEGIN:STANDARD
DTSTART:20001029T040000
RRULE:FREQ=YEARLY;BYDAY=-1SU;BYMONTH=10
TZNAME:CET
TZOFFSETFROM:+0200
TZOFFSETTO:+0100
END:STANDARD
BEGIN:DAYLIGHT
DTSTART:20000326T030000
RRULE:FREQ=YEARLY;BYDAY=-1SU;BYMONTH=3
TZNAME:CEST
TZOFFSETFROM:+0100
TZOFFSETTO:+0200
END:DAYLIGHT
END:VTIMEZONE
BEGIN:VEVENT
UID:pretix-harzventure-kino-4860806@pretix.eu
DTSTART;TZID=Europe/Berlin:20260608T134000
DTEND;TZID=Europe/Berlin:20260608T144000
DESCRIPTION:Tickets: https://pretix.eu/harzventure/kino/4860806/\nVeranstal
 ter: HarzVenture GmbH
DTSTAMP:20260424T155850Z
LOCATION:Am BurgBergCenter\, Nordhäuser Straße 2c\, 38667 Bad Harzburg
SUMMARY:Hickhack um die Harzburg - Euer bewegtes Kinoerlebnis
END:VEVENT
END:VCALENDAR
