BEGIN:VCALENDAR
VERSION:2.0
PRODID:-//pretix//pretix.eu//
BEGIN:VTIMEZONE
TZID:Europe/Berlin
BEGIN:STANDARD
DTSTART:20001029T040000
RRULE:FREQ=YEARLY;BYDAY=-1SU;BYMONTH=10
TZNAME:CET
TZOFFSETFROM:+0200
TZOFFSETTO:+0100
END:STANDARD
BEGIN:DAYLIGHT
DTSTART:20000326T030000
RRULE:FREQ=YEARLY;BYDAY=-1SU;BYMONTH=3
TZNAME:CEST
TZOFFSETFROM:+0100
TZOFFSETTO:+0200
END:DAYLIGHT
END:VTIMEZONE
BEGIN:VEVENT
UID:pretix-hauptsachefrei-shelegend-0@pretix.eu
DTSTART;TZID=Europe/Berlin:20210825T190000
DTEND;TZID=Europe/Berlin:20210825T200000
DESCRIPTION:Tickets: https://pretix.eu/hauptsachefrei/shelegend/\nVeranstal
 ter: Bündnis für Festivals der freien Tanz- und Theaterschaffenden Hambu
 rgs e.V - Hauptsache Frei #7
DTSTAMP:20260424T174058Z
LOCATION:WIESE\, Wiesendamm 24\, 22087 Hamburg
SUMMARY:SHE LEGEND - Rykena / Jüngst
END:VEVENT
END:VCALENDAR
