BEGIN:VCALENDAR
VERSION:2.0
PRODID:-//pretix//pretix.eu//
BEGIN:VTIMEZONE
TZID:Europe/Berlin
BEGIN:STANDARD
DTSTART:20001029T040000
RRULE:FREQ=YEARLY;BYDAY=-1SU;BYMONTH=10
TZNAME:CET
TZOFFSETFROM:+0200
TZOFFSETTO:+0100
END:STANDARD
BEGIN:DAYLIGHT
DTSTART:20000326T030000
RRULE:FREQ=YEARLY;BYDAY=-1SU;BYMONTH=3
TZNAME:CEST
TZOFFSETFROM:+0100
TZOFFSETTO:+0200
END:DAYLIGHT
END:VTIMEZONE
BEGIN:VEVENT
UID:pretix-heide-kompanie-2025HA-2-0@pretix.eu
DTSTART;TZID=Europe/Berlin:20260529T180000
DTEND;TZID=Europe/Berlin:20260529T190000
DESCRIPTION:Tickets: https://pretix.eu/heide-kompanie/2025HA-2/\nVeranstalt
 er: Heide-Kompanie im Paderborner-Bürger-Schützenverein gegr. 1831 e.V.
DTSTAMP:20260425T030641Z
LOCATION:Heide-Kompanie\, Schützenplatz Paderborn\, Schützenplatz 1\, 331
 02 Paderborn
SUMMARY:Dämmerschoppen der Heide-Kompanie
END:VEVENT
END:VCALENDAR
