BEGIN:VCALENDAR
VERSION:2.0
PRODID:-//pretix//pretix.eu//
BEGIN:VTIMEZONE
TZID:Europe/Berlin
BEGIN:STANDARD
DTSTART:20001029T040000
RRULE:FREQ=YEARLY;BYDAY=-1SU;BYMONTH=10
TZNAME:CET
TZOFFSETFROM:+0200
TZOFFSETTO:+0100
END:STANDARD
BEGIN:DAYLIGHT
DTSTART:20000326T030000
RRULE:FREQ=YEARLY;BYDAY=-1SU;BYMONTH=3
TZNAME:CEST
TZOFFSETFROM:+0100
TZOFFSETTO:+0200
END:DAYLIGHT
END:VTIMEZONE
BEGIN:VEVENT
UID:pretix-hjoerringkommune-Skills-foraldre-0@pretix.eu
DTSTART;TZID=Europe/Berlin:20260423T153000
DTEND;TZID=Europe/Berlin:20260423T190000
DESCRIPTION:Billetter: https://pretix.eu/hjoerringkommune/Skills-foraldre/\
 nOrganizer: Hjørring Kommune
DTSTAMP:20260423T212647Z
LOCATION:Hallen\, Park Vendia\, Thomas Morilds Vej 11\, 9800 Hjørring
SUMMARY:Forældreaften - DM i Skills
END:VEVENT
END:VCALENDAR
