BEGIN:VCALENDAR
VERSION:2.0
PRODID:-//pretix//pretix.eu//
BEGIN:VTIMEZONE
TZID:Europe/Berlin
BEGIN:STANDARD
DTSTART:20001029T040000
RRULE:FREQ=YEARLY;BYDAY=-1SU;BYMONTH=10
TZNAME:CET
TZOFFSETFROM:+0200
TZOFFSETTO:+0100
END:STANDARD
BEGIN:DAYLIGHT
DTSTART:20000326T030000
RRULE:FREQ=YEARLY;BYDAY=-1SU;BYMONTH=3
TZNAME:CEST
TZOFFSETFROM:+0100
TZOFFSETTO:+0200
END:DAYLIGHT
END:VTIMEZONE
BEGIN:VEVENT
UID:pretix-hof19-maxprosa-0@pretix.eu
DTSTART;TZID=Europe/Berlin:20260626T200000
DTEND;TZID=Europe/Berlin:20260626T230000
DESCRIPTION:Tickets: https://pretix.eu/hof19/maxprosa/\nEinlass: 26.06.2026
  18:00\nVeranstalter: HOF19
DTSTAMP:20260425T132721Z
LOCATION:HOF19 / Garten\, Hauptstraße 19\, 07580 Braunichswalde
SUMMARY:Max Prosa
END:VEVENT
END:VCALENDAR
