BEGIN:VCALENDAR
VERSION:2.0
PRODID:-//pretix//pretix.eu//
BEGIN:VEVENT
UID:pretix-hotelschlossromrod-zimmerhbcon-6-0@pretix.eu
DTSTART;VALUE=DATE:20250307
DTEND;VALUE=DATE:20250310
DESCRIPTION:Tickets: https://pretix.eu/hotelschlossromrod/zimmerhbcon-6/\nV
 eranstalter: smartig - die Gastgeber GmbH
DTSTAMP:20260423T050011Z
SUMMARY:Zimmerbuchung HBCon 2025
END:VEVENT
END:VCALENDAR
