BEGIN:VCALENDAR
VERSION:2.0
PRODID:-//pretix//pretix.eu//
BEGIN:VTIMEZONE
TZID:Europe/Berlin
BEGIN:STANDARD
DTSTART:20001029T040000
RRULE:FREQ=YEARLY;BYDAY=-1SU;BYMONTH=10
TZNAME:CET
TZOFFSETFROM:+0200
TZOFFSETTO:+0100
END:STANDARD
BEGIN:DAYLIGHT
DTSTART:20000326T030000
RRULE:FREQ=YEARLY;BYDAY=-1SU;BYMONTH=3
TZNAME:CEST
TZOFFSETFROM:+0100
TZOFFSETTO:+0200
END:DAYLIGHT
END:VTIMEZONE
BEGIN:VEVENT
UID:pretix-hotelvillaraab-messe2022-2-0@pretix.eu
DTSTART;TZID=Europe/Berlin:20220130T110000
DTEND;TZID=Europe/Berlin:20220130T170000
DESCRIPTION:Tickets: https://pretix.eu/hotelvillaraab/messe2022-2/\nVeranst
 alter: Villa Raab GmbH & Co. KG
DTSTAMP:20260420T085206Z
LOCATION:hôtel schloss romrod\, Alsfelder Straße 7\, 363269 Romrod
SUMMARY:Hochzeitsmesse auf hôtel schloss romrod
END:VEVENT
END:VCALENDAR
