BEGIN:VCALENDAR
VERSION:2.0
PRODID:-//pretix//pretix.eu//
BEGIN:VTIMEZONE
TZID:Europe/Berlin
BEGIN:STANDARD
DTSTART:20001029T040000
RRULE:FREQ=YEARLY;BYDAY=-1SU;BYMONTH=10
TZNAME:CET
TZOFFSETFROM:+0200
TZOFFSETTO:+0100
END:STANDARD
BEGIN:DAYLIGHT
DTSTART:20000326T030000
RRULE:FREQ=YEARLY;BYDAY=-1SU;BYMONTH=3
TZNAME:CEST
TZOFFSETFROM:+0100
TZOFFSETTO:+0200
END:DAYLIGHT
END:VTIMEZONE
BEGIN:VEVENT
UID:pretix-humanacting-sommerf-0@pretix.eu
DTSTART;TZID=Europe/Berlin:20260620T190000
DTEND;TZID=Europe/Berlin:20260620T200000
DESCRIPTION:Tickets: https://pretix.eu/humanacting/sommerf/\nOrganizer: Hum
 an Acting - 21st Century Dramatic Arts
DTSTAMP:20260425T021512Z
LOCATION:Theater in der Aichholzgasse\, Aichholzgasse 52\, 1120 Wien
SUMMARY:Human Acting Sommerfest
END:VEVENT
BEGIN:VEVENT
UID:pretix-humanacting-kirschgar-4910807@pretix.eu
DTSTART;TZID=Europe/Berlin:20260529T193000
DTEND;TZID=Europe/Berlin:20260529T213000
DESCRIPTION:Tickets: https://pretix.eu/humanacting/kirschgar/4910807/\nAdmi
 ssion: 2026-05-29 19:30\nOrganizer: Human Acting - 21st Century Dramatic A
 rts
DTSTAMP:20260425T021512Z
LOCATION:Theater Spielraum\, Kaiserstraße 46\, 1070 Wien
SUMMARY:Der Kirschgarten
END:VEVENT
BEGIN:VEVENT
UID:pretix-humanacting-kirschgar-4910808@pretix.eu
DTSTART;TZID=Europe/Berlin:20260530T193000
DTEND;TZID=Europe/Berlin:20260530T213000
DESCRIPTION:Tickets: https://pretix.eu/humanacting/kirschgar/4910808/\nAdmi
 ssion: 2026-05-30 19:30\nOrganizer: Human Acting - 21st Century Dramatic A
 rts
DTSTAMP:20260425T021512Z
LOCATION:Theater Spielraum\, Kaiserstraße 46\, 1070 Wien
SUMMARY:Der Kirschgarten
END:VEVENT
BEGIN:VEVENT
UID:pretix-humanacting-kirschgar-4910809@pretix.eu
DTSTART;TZID=Europe/Berlin:20260531T193000
DTEND;TZID=Europe/Berlin:20260531T213000
DESCRIPTION:Tickets: https://pretix.eu/humanacting/kirschgar/4910809/\nAdmi
 ssion: 2026-05-31 19:30\nOrganizer: Human Acting - 21st Century Dramatic A
 rts
DTSTAMP:20260425T021512Z
LOCATION:Theater Spielraum\, Kaiserstraße 46\, 1070 Wien
SUMMARY:Der Kirschgarten
END:VEVENT
BEGIN:VEVENT
UID:pretix-humanacting-mittsomm-4911407@pretix.eu
DTSTART;TZID=Europe/Berlin:20260904T193000
DTEND;TZID=Europe/Berlin:20260904T203000
DESCRIPTION:Tickets: https://pretix.eu/humanacting/mittsomm/4911407/\nOrgan
 izer: Human Acting - 21st Century Dramatic Arts
DTSTAMP:20260425T021512Z
LOCATION:Theater Spielraum\, Kaiserstraße 46\, 1070 Wien
SUMMARY:Ein Mittsommernachtstraum
END:VEVENT
BEGIN:VEVENT
UID:pretix-humanacting-mittsomm-4911408@pretix.eu
DTSTART;TZID=Europe/Berlin:20260905T193000
DTEND;TZID=Europe/Berlin:20260905T203000
DESCRIPTION:Tickets: https://pretix.eu/humanacting/mittsomm/4911408/\nOrgan
 izer: Human Acting - 21st Century Dramatic Arts
DTSTAMP:20260425T021512Z
LOCATION:Theater Spielraum\, Kaiserstraße 46\, 1070 Wien
SUMMARY:Ein Mittsommernachtstraum
END:VEVENT
BEGIN:VEVENT
UID:pretix-humanacting-mittsomm-4911409@pretix.eu
DTSTART;TZID=Europe/Berlin:20260906T193000
DTEND;TZID=Europe/Berlin:20260906T203000
DESCRIPTION:Tickets: https://pretix.eu/humanacting/mittsomm/4911409/\nOrgan
 izer: Human Acting - 21st Century Dramatic Arts
DTSTAMP:20260425T021512Z
LOCATION:Theater Spielraum\, Kaiserstraße 46\, 1070 Wien
SUMMARY:Ein Mittsommernachtstraum
END:VEVENT
END:VCALENDAR
