BEGIN:VCALENDAR
VERSION:2.0
PRODID:-//pretix//pretix.eu//
BEGIN:VTIMEZONE
TZID:Europe/Berlin
BEGIN:STANDARD
DTSTART:20001029T040000
RRULE:FREQ=YEARLY;BYDAY=-1SU;BYMONTH=10
TZNAME:CET
TZOFFSETFROM:+0200
TZOFFSETTO:+0100
END:STANDARD
BEGIN:DAYLIGHT
DTSTART:20000326T030000
RRULE:FREQ=YEARLY;BYDAY=-1SU;BYMONTH=3
TZNAME:CEST
TZOFFSETFROM:+0100
TZOFFSETTO:+0200
END:DAYLIGHT
END:VTIMEZONE
BEGIN:VEVENT
UID:pretix-humanacting-kirschgar-4910808@pretix.eu
DTSTART;TZID=Europe/Berlin:20260530T193000
DTEND;TZID=Europe/Berlin:20260530T213000
DESCRIPTION:Tickets: https://pretix.eu/humanacting/kirschgar/4910808/\nEinl
 ass: 30.05.2026 19:30\nVeranstalter: Human Acting - 21st Century Dramatic 
 Arts
DTSTAMP:20260425T003026Z
LOCATION:Theater Spielraum\, Kaiserstraße 46\, 1070 Wien
SUMMARY:Der Kirschgarten
END:VEVENT
END:VCALENDAR
