BEGIN:VCALENDAR
VERSION:2.0
PRODID:-//pretix//pretix.eu//
BEGIN:VTIMEZONE
TZID:Europe/Berlin
BEGIN:STANDARD
DTSTART:20001029T040000
RRULE:FREQ=YEARLY;BYDAY=-1SU;BYMONTH=10
TZNAME:CET
TZOFFSETFROM:+0200
TZOFFSETTO:+0100
END:STANDARD
BEGIN:DAYLIGHT
DTSTART:20000326T030000
RRULE:FREQ=YEARLY;BYDAY=-1SU;BYMONTH=3
TZNAME:CEST
TZOFFSETFROM:+0100
TZOFFSETTO:+0200
END:DAYLIGHT
END:VTIMEZONE
BEGIN:VEVENT
UID:pretix-iamag-fam-2-0@pretix.eu
DTSTART;TZID=Europe/Berlin:20251210T150000
DTEND;TZID=Europe/Berlin:20251210T170000
DESCRIPTION:Tickets: https://pretix.eu/iamag/fam-2/\nVeranstalter: Institut
  für Allgemeinmedizin und Ambulante Gesundheitsversorgung
DTSTAMP:20260419T153052Z
LOCATION:Universität Witten/Herdecke\, Neubau
SUMMARY:Forum Allgemeinmedizin für Praxisteams und anschließendem adventl
 ichem Ausklang
END:VEVENT
END:VCALENDAR
